BEGIN:VCALENDAR
VERSION:2.0
PRODID:-//Clearwater GreekFest - ECPv6.15.12.2//NONSGML v1.0//EN
CALSCALE:GREGORIAN
METHOD:PUBLISH
X-WR-CALNAME:Clearwater GreekFest
X-ORIGINAL-URL:https://clearwatergreekfest.com
X-WR-CALDESC:Events for Clearwater GreekFest
REFRESH-INTERVAL;VALUE=DURATION:PT1H
X-Robots-Tag:noindex
X-PUBLISHED-TTL:PT1H
BEGIN:VTIMEZONE
TZID:UTC
BEGIN:STANDARD
TZOFFSETFROM:+0000
TZOFFSETTO:+0000
TZNAME:UTC
DTSTART:20250101T000000
END:STANDARD
END:VTIMEZONE
BEGIN:VEVENT
DTSTART;TZID=UTC:20261023T150000
DTEND;TZID=UTC:20261023T153000
DTSTAMP:20260421T083145
CREATED:20240810T033517Z
LAST-MODIFIED:20251027T204529Z
UID:24046-1792767600-1792769400@clearwatergreekfest.com
SUMMARY:Cooking Demonstrations
DESCRIPTION:Come see how the Greeks cook. Enjoy live demonstrations on a variety of Greek Cuisine.
URL:https://clearwatergreekfest.com/event/cooking-demonstrations/
CATEGORIES:Cooking Demonstrations
ATTACH;FMTTYPE=image/webp:https://clearwatergreekfest.com/wp-content/uploads/2024/08/Cooking-Demonstrations.webp
END:VEVENT
BEGIN:VEVENT
DTSTART;TZID=UTC:20261023T160000
DTEND;TZID=UTC:20261023T163000
DTSTAMP:20260421T083145
CREATED:20240810T035458Z
LAST-MODIFIED:20251027T204607Z
UID:24050-1792771200-1792773000@clearwatergreekfest.com
SUMMARY:Cooking Demonstrations
DESCRIPTION:Come see how the Greeks cook. Enjoy live demonstrations on a variety of Greek Cuisine.
URL:https://clearwatergreekfest.com/event/cooking-demonstrations-2/
CATEGORIES:Cooking Demonstrations
ATTACH;FMTTYPE=image/webp:https://clearwatergreekfest.com/wp-content/uploads/2025/10/Cooking-Demonstrations-10.webp
END:VEVENT
BEGIN:VEVENT
DTSTART;TZID=UTC:20261023T170000
DTEND;TZID=UTC:20261023T173000
DTSTAMP:20260421T083145
CREATED:20240810T035527Z
LAST-MODIFIED:20251027T204626Z
UID:24052-1792774800-1792776600@clearwatergreekfest.com
SUMMARY:Cooking Demonstrations
DESCRIPTION:Come see how the Greeks cook. Enjoy live demonstrations on a variety of Greek Cuisine.
URL:https://clearwatergreekfest.com/event/cooking-demonstrations-3/
CATEGORIES:Cooking Demonstrations
ATTACH;FMTTYPE=image/webp:https://clearwatergreekfest.com/wp-content/uploads/2025/10/Cooking-Demonstrations-02.webp
END:VEVENT
BEGIN:VEVENT
DTSTART;TZID=UTC:20261023T180000
DTEND;TZID=UTC:20261023T183000
DTSTAMP:20260421T083145
CREATED:20240810T035559Z
LAST-MODIFIED:20251027T204653Z
UID:24054-1792778400-1792780200@clearwatergreekfest.com
SUMMARY:Cooking Demonstrations
DESCRIPTION:Come see how the Greeks cook. Enjoy live demonstrations on a variety of Greek Cuisine.
URL:https://clearwatergreekfest.com/event/cooking-demonstrations-4/
CATEGORIES:Cooking Demonstrations
ATTACH;FMTTYPE=image/webp:https://clearwatergreekfest.com/wp-content/uploads/2025/10/Cooking-Demonstrations-03.webp
END:VEVENT
BEGIN:VEVENT
DTSTART;TZID=UTC:20261024T120000
DTEND;TZID=UTC:20261024T123000
DTSTAMP:20260421T083145
CREATED:20240810T035812Z
LAST-MODIFIED:20251027T204851Z
UID:24056-1792843200-1792845000@clearwatergreekfest.com
SUMMARY:Cooking Demonstrations
DESCRIPTION:Come see how the Greeks cook. Enjoy live demonstrations on a variety of Greek Cuisine.
URL:https://clearwatergreekfest.com/event/cooking-demonstrations-5/
CATEGORIES:Cooking Demonstrations
ATTACH;FMTTYPE=image/webp:https://clearwatergreekfest.com/wp-content/uploads/2025/10/Cooking-Demonstrations-04.webp
END:VEVENT
BEGIN:VEVENT
DTSTART;TZID=UTC:20261024T130000
DTEND;TZID=UTC:20261024T133000
DTSTAMP:20260421T083145
CREATED:20240810T035854Z
LAST-MODIFIED:20251027T204912Z
UID:24058-1792846800-1792848600@clearwatergreekfest.com
SUMMARY:Cooking Demonstrations
DESCRIPTION:Come see how the Greeks cook. Enjoy live demonstrations on a variety of Greek Cuisine.
URL:https://clearwatergreekfest.com/event/cooking-demonstrations-6/
CATEGORIES:Cooking Demonstrations
ATTACH;FMTTYPE=image/webp:https://clearwatergreekfest.com/wp-content/uploads/2025/10/Cooking-Demonstrations-05.webp
END:VEVENT
BEGIN:VEVENT
DTSTART;TZID=UTC:20261024T140000
DTEND;TZID=UTC:20261024T143000
DTSTAMP:20260421T083145
CREATED:20240810T035922Z
LAST-MODIFIED:20251027T204946Z
UID:24060-1792850400-1792852200@clearwatergreekfest.com
SUMMARY:Cooking Demonstrations
DESCRIPTION:Come see how the Greeks cook. Enjoy live demonstrations on a variety of Greek Cuisine.
URL:https://clearwatergreekfest.com/event/cooking-demonstrations-7/
CATEGORIES:Cooking Demonstrations
ATTACH;FMTTYPE=image/webp:https://clearwatergreekfest.com/wp-content/uploads/2025/10/Cooking-Demonstrations-06.webp
END:VEVENT
BEGIN:VEVENT
DTSTART;TZID=UTC:20261024T150000
DTEND;TZID=UTC:20261024T153000
DTSTAMP:20260421T083145
CREATED:20240810T035956Z
LAST-MODIFIED:20251027T205002Z
UID:24062-1792854000-1792855800@clearwatergreekfest.com
SUMMARY:Cooking Demonstrations
DESCRIPTION:Come see how the Greeks cook. Enjoy live demonstrations on a variety of Greek Cuisine.
URL:https://clearwatergreekfest.com/event/cooking-demonstrations-8/
CATEGORIES:Cooking Demonstrations
ATTACH;FMTTYPE=image/webp:https://clearwatergreekfest.com/wp-content/uploads/2025/10/Cooking-Demonstrations-07.webp
END:VEVENT
BEGIN:VEVENT
DTSTART;TZID=UTC:20261024T170000
DTEND;TZID=UTC:20261024T173000
DTSTAMP:20260421T083145
CREATED:20240810T040024Z
LAST-MODIFIED:20251027T205149Z
UID:24064-1792861200-1792863000@clearwatergreekfest.com
SUMMARY:Cooking Demonstrations
DESCRIPTION:Come see how the Greeks cook. Enjoy live demonstrations on a variety of Greek Cuisine.
URL:https://clearwatergreekfest.com/event/cooking-demonstrations-9/
CATEGORIES:Cooking Demonstrations
ATTACH;FMTTYPE=image/webp:https://clearwatergreekfest.com/wp-content/uploads/2025/10/Cooking-Demonstrations-08.webp
END:VEVENT
BEGIN:VEVENT
DTSTART;TZID=UTC:20261025T130000
DTEND;TZID=UTC:20261025T133000
DTSTAMP:20260421T083145
CREATED:20240810T040118Z
LAST-MODIFIED:20251027T205335Z
UID:24066-1792933200-1792935000@clearwatergreekfest.com
SUMMARY:Cooking Demonstrations
DESCRIPTION:Come see how the Greeks cook. Enjoy live demonstrations on a variety of Greek Cuisine.
URL:https://clearwatergreekfest.com/event/cooking-demonstrations-10/
CATEGORIES:Cooking Demonstrations
ATTACH;FMTTYPE=image/webp:https://clearwatergreekfest.com/wp-content/uploads/2025/10/Cooking-Demonstrations-13.webp
END:VEVENT
BEGIN:VEVENT
DTSTART;TZID=UTC:20261025T140000
DTEND;TZID=UTC:20261025T143000
DTSTAMP:20260421T083145
CREATED:20240810T040146Z
LAST-MODIFIED:20251027T205407Z
UID:24068-1792936800-1792938600@clearwatergreekfest.com
SUMMARY:Cooking Demonstrations
DESCRIPTION:Come see how the Greeks cook. Enjoy live demonstrations on a variety of Greek Cuisine.
URL:https://clearwatergreekfest.com/event/cooking-demonstrations-11/
CATEGORIES:Cooking Demonstrations
ATTACH;FMTTYPE=image/webp:https://clearwatergreekfest.com/wp-content/uploads/2025/10/Cooking-Demonstrations-12.webp
END:VEVENT
END:VCALENDAR